BEGIN:VCALENDAR
VERSION:2.0
PRODID:-//SK Turm Schiefbahn e.V. - ECPv6.15.20//NONSGML v1.0//EN
CALSCALE:GREGORIAN
METHOD:PUBLISH
X-ORIGINAL-URL:https://turmschiefbahn.de
X-WR-CALDESC:Veranstaltungen für SK Turm Schiefbahn e.V.
REFRESH-INTERVAL;VALUE=DURATION:PT1H
X-Robots-Tag:noindex
X-PUBLISHED-TTL:PT1H
BEGIN:VTIMEZONE
TZID:Europe/Berlin
BEGIN:DAYLIGHT
TZOFFSETFROM:+0100
TZOFFSETTO:+0200
TZNAME:CEST
DTSTART:20250330T010000
END:DAYLIGHT
BEGIN:STANDARD
TZOFFSETFROM:+0200
TZOFFSETTO:+0100
TZNAME:CET
DTSTART:20251026T010000
END:STANDARD
BEGIN:DAYLIGHT
TZOFFSETFROM:+0100
TZOFFSETTO:+0200
TZNAME:CEST
DTSTART:20260329T010000
END:DAYLIGHT
BEGIN:STANDARD
TZOFFSETFROM:+0200
TZOFFSETTO:+0100
TZNAME:CET
DTSTART:20261025T010000
END:STANDARD
BEGIN:DAYLIGHT
TZOFFSETFROM:+0100
TZOFFSETTO:+0200
TZNAME:CEST
DTSTART:20270328T010000
END:DAYLIGHT
BEGIN:STANDARD
TZOFFSETFROM:+0200
TZOFFSETTO:+0100
TZNAME:CET
DTSTART:20271031T010000
END:STANDARD
END:VTIMEZONE
BEGIN:VEVENT
DTSTART;TZID=Europe/Berlin:20260426T100000
DTEND;TZID=Europe/Berlin:20260426T140000
DTSTAMP:20260425T130948
CREATED:20250718T065259Z
LAST-MODIFIED:20250718T065259Z
UID:5945-1777197600-1777212000@turmschiefbahn.de
SUMMARY:SBLN 1. Mannschaft - Auswärts gegen Heinsberg
DESCRIPTION:Terminübersicht
URL:https://turmschiefbahn.de/?tribe_events=sbln-1-mannschaft-auswaerts-gegen-heinsberg
CATEGORIES:Bezirksliga
END:VEVENT
END:VCALENDAR